BEGIN:VCALENDAR
VERSION:2.0
PRODID:-//AAEE - SA Chapter - ECPv5.3.2.1//NONSGML v1.0//EN
CALSCALE:GREGORIAN
METHOD:PUBLISH
X-WR-CALNAME:AAEE - SA Chapter
X-ORIGINAL-URL:https://www.aaeesa.org.au
X-WR-CALDESC:Events for AAEE - SA Chapter
BEGIN:VTIMEZONE
TZID:Australia/Adelaide
BEGIN:STANDARD
TZOFFSETFROM:+1030
TZOFFSETTO:+0930
TZNAME:ACST
DTSTART:20210403T163000
END:STANDARD
BEGIN:DAYLIGHT
TZOFFSETFROM:+0930
TZOFFSETTO:+1030
TZNAME:ACDT
DTSTART:20211002T163000
END:DAYLIGHT
END:VTIMEZONE
BEGIN:VEVENT
DTSTART;TZID=Australia/Adelaide:20210202T000000
DTEND;TZID=Australia/Adelaide:20210202T235959
DTSTAMP:20210227T050554
CREATED:20201220T033545Z
LAST-MODIFIED:20210122T213031Z
UID:694-1612224000-1612310399@www.aaeesa.org.au
SUMMARY:World Wetlands Day
DESCRIPTION:World Wetlands Day is celebrated internationally each year on 2 February. It marks the anniversary of the signing of the Convention on Wetlands of International Importance (Ramsar Convention) in Ramsar\, Iran\, on 2 February 1971. \n\n\n\nSince 1997\, World Wetlands Day has been used to: \n\n\n\nraise public awareness of wetland values and benefitspromote the conservation and wise use of wetlands.\n\n\n\nJoin in on the day. Attend a seminar or festival\, help with a revegetation project or go on a bird walk. \n\n\n\nWe will be celebrating this anniversary throughout the year. \n\n\n\nOur 2021 edition of Wetlands Australia has a focus on engagement\, education or research activities undertaken at our Ramsar sites or local wetlands. It shares the good work being done to value and protect wetlands. \n\n\n\n2021 theme\n\n\n\nThe 2021 theme is ‘Wetlands and Water’ \n\n\n\nThis highlights the role wetlands play in: \n\n\n\nclean waterwater supplyecosystem resiliencesustainable livelihoods and jobsbiodiversity conservationstorm protectioncarbon storageclimate change adaptationhealth and well-beingtourism and recreation\n\n\n\n\n\n\n\nWorld wetlands day website
URL:https://www.aaeesa.org.au/event/world-wetlands-day/
ATTACH;FMTTYPE=image/jpeg:https://www.aaeesa.org.au/wp/wp-content/uploads/2020/12/WorldWetlandsDay.jpg
END:VEVENT
END:VCALENDAR