BEGIN:VCALENDAR
VERSION:2.0
PRODID:-//AAEE - SA Chapter - ECPv5.3.2.1//NONSGML v1.0//EN
CALSCALE:GREGORIAN
METHOD:PUBLISH
X-WR-CALNAME:AAEE - SA Chapter
X-ORIGINAL-URL:https://www.aaeesa.org.au
X-WR-CALDESC:Events for AAEE - SA Chapter
BEGIN:VTIMEZONE
TZID:Australia/Adelaide
BEGIN:STANDARD
TZOFFSETFROM:+1030
TZOFFSETTO:+0930
TZNAME:ACST
DTSTART:20210403T163000
END:STANDARD
BEGIN:DAYLIGHT
TZOFFSETFROM:+0930
TZOFFSETTO:+1030
TZNAME:ACDT
DTSTART:20211002T163000
END:DAYLIGHT
END:VTIMEZONE
BEGIN:VEVENT
DTSTART;TZID=Australia/Adelaide:20210305T000000
DTEND;TZID=Australia/Adelaide:20210305T235959
DTSTAMP:20210227T051541
CREATED:20201220T204407Z
LAST-MODIFIED:20210122T213440Z
UID:745-1614902400-1614988799@www.aaeesa.org.au
SUMMARY:Schools Clean Up Day
DESCRIPTION:Schools Clean Up Day (Friday 5 March 2021) is a fun and engaging way to teach young Australians about the responsible disposal of rubbish\, resource recovery and the repercussions of rubbish dumped irresponsibly in the local environment. Not only do we provide schools with a free starter pack of materials\, but our website also features a range of learning resources to supplement the hands-on experience of the Clean Up \n\n\n\nschools clean up day website
URL:https://www.aaeesa.org.au/event/schools-clean-up-day/
ATTACH;FMTTYPE=image/jpeg:https://www.aaeesa.org.au/wp/wp-content/uploads/2020/12/SchoolsCleanupDay.jpg
END:VEVENT
BEGIN:VEVENT
DTSTART;TZID=Australia/Adelaide:20210307T000000
DTEND;TZID=Australia/Adelaide:20210307T235959
DTSTAMP:20210227T051541
CREATED:20201220T205555Z
LAST-MODIFIED:20201221T143012Z
UID:748-1615075200-1615161599@www.aaeesa.org.au
SUMMARY:Clean Up Australia Day
DESCRIPTION:Clean Up Australia inspires and empowers communities to clean up\, fix up and conserve our environment. \n\n\n\nWhat was started thirty years ago\, by an “average Australian bloke” who had a simple idea to make a difference in his own backyard has now become the nation’s largest community-based environmental event.
URL:https://www.aaeesa.org.au/event/clean-up-australia-day/
ATTACH;FMTTYPE=image/png:https://www.aaeesa.org.au/wp/wp-content/uploads/2020/12/CleanupDay.png
END:VEVENT
BEGIN:VEVENT
DTSTART;TZID=Australia/Adelaide:20210314T000000
DTEND;TZID=Australia/Adelaide:20210320T235959
DTSTAMP:20210227T051541
CREATED:20201221T010348Z
LAST-MODIFIED:20201221T151708Z
UID:768-1615680000-1616284799@www.aaeesa.org.au
SUMMARY:Groundwater Awareness Week
DESCRIPTION:Groundwater\, while it seems like a fancy scientific term\, is just water that’s held underneath the surface. While technological advancements have been made to help aid in water supply\, groundwater still counts for the majority of the earth’s water supply that’s drinkable and usable. \n\n\n\nFor many\, however\, groundwater doesn’t seem like an important issue. That’s why Groundwater Awareness Week exists to change that opinion.
URL:https://www.aaeesa.org.au/event/groundwater-awareness-week/
ATTACH;FMTTYPE=image/jpeg:https://www.aaeesa.org.au/wp/wp-content/uploads/2020/12/water3.jpg
END:VEVENT
BEGIN:VEVENT
DTSTART;TZID=Australia/Adelaide:20210319T000000
DTEND;TZID=Australia/Adelaide:20210319T235959
DTSTAMP:20210227T051541
CREATED:20201221T014323Z
LAST-MODIFIED:20201221T014325Z
UID:774-1616112000-1616198399@www.aaeesa.org.au
SUMMARY:National Ride2School Day
DESCRIPTION:National Ride2School Day is Australia’s biggest celebration of active travel and one of the best days on the school calendar. \n\n\n\nThe day has helped thousands of schools to empower and enable students to get physically active on their journey to school\, giving them the opportunity to create healthy habits for their future
URL:https://www.aaeesa.org.au/event/national-ride2school-day/
ATTACH;FMTTYPE=image/jpeg:https://www.aaeesa.org.au/wp/wp-content/uploads/2020/12/Ride2School-scaled.jpg
END:VEVENT
BEGIN:VEVENT
DTSTART;TZID=Australia/Adelaide:20210321T000000
DTEND;TZID=Australia/Adelaide:20210321T235959
DTSTAMP:20210227T051541
CREATED:20201221T015158Z
LAST-MODIFIED:20201221T141246Z
UID:778-1616284800-1616371199@www.aaeesa.org.au
SUMMARY:Harmony Day
DESCRIPTION:Harmony Day is a day to celebrate Australian multiculturalism\, based on the successful integration of migrants into our community. Harmony Day is about inclusiveness\, respect and belonging for all Australians\, regardless of cultural or linguistic background\, united by a set of core Australian values.  \n\n\n\nHeld every year on 21 March. The Day coincides with the United Nations International Day for the Elimination of Racial Discrimination. Since 1999\, more than 70\,000 Harmony Day events have been held in childcare centres\, schools\, community groups\, churches\, businesses and federal\, state and local government agencies across Australia.
URL:https://www.aaeesa.org.au/event/harmony-day/
ATTACH;FMTTYPE=image/jpeg:https://www.aaeesa.org.au/wp/wp-content/uploads/2020/12/au-harmony-day.jpg
END:VEVENT
BEGIN:VEVENT
DTSTART;TZID=Australia/Adelaide:20210321T000000
DTEND;TZID=Australia/Adelaide:20210321T235959
DTSTAMP:20210227T051541
CREATED:20201221T123714Z
LAST-MODIFIED:20201221T144938Z
UID:781-1616284800-1616371199@www.aaeesa.org.au
SUMMARY:International Day of Forests
DESCRIPTION:The United Nations General Assembly proclaimed 21 March the International Day of Forests in 2012. \n\n\n\nThe organizers are the United Nations Forum on Forests and the Food and Agriculture Organization of the United Nations (FAO)\, in collaboration with Governments\, the Collaborative Partnership on Forests and other relevant organizations in the field. \n\n\n\nThe Day celebrates and raises awareness of the importance of all types of forests. On each International Day of Forests\, countries are encouraged to undertake local\, national and international efforts to organize activities involving forests and trees\, such as tree planting campaigns. The theme for each International Day of Forests is chosen by the Collaborative Partnership on Forests.
URL:https://www.aaeesa.org.au/event/international-day-of-forests/
ATTACH;FMTTYPE=image/jpeg:https://www.aaeesa.org.au/wp/wp-content/uploads/2020/12/DayOfForests3.jpg
END:VEVENT
BEGIN:VEVENT
DTSTART;TZID=Australia/Adelaide:20210322T000000
DTEND;TZID=Australia/Adelaide:20210322T235959
DTSTAMP:20210227T051541
CREATED:20201221T125229Z
LAST-MODIFIED:20201221T131111Z
UID:785-1616371200-1616457599@www.aaeesa.org.au
SUMMARY:World Water Day
DESCRIPTION:World Water Day is an annual UN observance day (22 March) that highlights the importance of freshwater. The day is used to advocate for the sustainable management of freshwater resources. The theme of each day focuses on topics relevant to clean water\, sanitation and hygiene (WASH)\, which is in line with the targets of Sustainable Development Goal 6. The UN World Water Development Report (WWDR) is released each year around World Water Day. \n\n\n\nUN-Water is the convener for World Water Day and selects the theme for each year in consultation with UN organizations that share an interest in that year’s focus.
URL:https://www.aaeesa.org.au/event/world-water-day/
ATTACH;FMTTYPE=image/jpeg:https://www.aaeesa.org.au/wp/wp-content/uploads/2020/12/WorldWaterDay.jpg
END:VEVENT
BEGIN:VEVENT
DTSTART;TZID=Australia/Adelaide:20210323T000000
DTEND;TZID=Australia/Adelaide:20210323T235959
DTSTAMP:20210227T051541
CREATED:20201221T130911Z
LAST-MODIFIED:20201221T145755Z
UID:789-1616457600-1616543999@www.aaeesa.org.au
SUMMARY:World Meteorological Day
DESCRIPTION:World Meteorological Day takes place every year on 23 March and commemorates the coming into force on 23 March 1950 of the Convention establishing the World Meteorological Organization. It showcases the essential contribution of National Meteorological and Hydrological Services to the safety and wellbeing of society and is celebrated with activities around the world.   \n\n\n\nThe themes chosen for World Meteorological Day reflect topical weather\, climate or water-related issues.
URL:https://www.aaeesa.org.au/event/world-meteorological-day/
ATTACH;FMTTYPE=image/jpeg:https://www.aaeesa.org.au/wp/wp-content/uploads/2020/12/MeteorologyDay2.jpg
END:VEVENT
BEGIN:VEVENT
DTSTART;TZID=Australia/Adelaide:20210327T203000
DTEND;TZID=Australia/Adelaide:20210327T213000
DTSTAMP:20210227T051541
CREATED:20201221T134541Z
LAST-MODIFIED:20201221T135339Z
UID:794-1616877000-1616880600@www.aaeesa.org.au
SUMMARY:Earth Hour
DESCRIPTION:WWF’s Earth Hour is the world’s biggest movement to protect our planet. \n\n\n\nEvery year hundreds of millions of people around the world in more than 7\,000 cities in over 180 countries take part in this amazing global conservation movement.Join the movement and take part in Earth Hour by switching off at 8.30pm for 60 minutes as a symbolic gesture of solidarity to show they care about our planet’s future.
URL:https://www.aaeesa.org.au/event/earth-hour/
ATTACH;FMTTYPE=image/jpeg:https://www.aaeesa.org.au/wp/wp-content/uploads/2020/12/earth-hour.jpg
END:VEVENT
END:VCALENDAR