BEGIN:VCALENDAR
VERSION:2.0
PRODID:-//AAEE - SA Chapter - ECPv6.15.20//NONSGML v1.0//EN
CALSCALE:GREGORIAN
METHOD:PUBLISH
X-ORIGINAL-URL:https://www.aaeesa.org.au
X-WR-CALDESC:Events for AAEE - SA Chapter
REFRESH-INTERVAL;VALUE=DURATION:PT1H
X-Robots-Tag:noindex
X-PUBLISHED-TTL:PT1H
BEGIN:VTIMEZONE
TZID:Australia/Adelaide
BEGIN:STANDARD
TZOFFSETFROM:+1030
TZOFFSETTO:+0930
TZNAME:ACST
DTSTART:20250405T163000
END:STANDARD
BEGIN:DAYLIGHT
TZOFFSETFROM:+0930
TZOFFSETTO:+1030
TZNAME:ACDT
DTSTART:20251004T163000
END:DAYLIGHT
BEGIN:STANDARD
TZOFFSETFROM:+1030
TZOFFSETTO:+0930
TZNAME:ACST
DTSTART:20260404T163000
END:STANDARD
BEGIN:DAYLIGHT
TZOFFSETFROM:+0930
TZOFFSETTO:+1030
TZNAME:ACDT
DTSTART:20261003T163000
END:DAYLIGHT
BEGIN:STANDARD
TZOFFSETFROM:+1030
TZOFFSETTO:+0930
TZNAME:ACST
DTSTART:20270403T163000
END:STANDARD
BEGIN:DAYLIGHT
TZOFFSETFROM:+0930
TZOFFSETTO:+1030
TZNAME:ACDT
DTSTART:20271002T163000
END:DAYLIGHT
END:VTIMEZONE
BEGIN:VEVENT
DTSTART;TZID=Australia/Adelaide:20260815T000000
DTEND;TZID=Australia/Adelaide:20260823T235959
DTSTAMP:20260423T211345
CREATED:20250127T053740Z
LAST-MODIFIED:20260211T064905Z
UID:6061-1786752000-1787529599@www.aaeesa.org.au
SUMMARY:National Science Week 2026
DESCRIPTION:Celebrating science & technology\n\n\n\nNational Science Week is Australia’s annual celebration of science and technology. \n\n\n\nRunning each year in August\, it features more than 1000 events around Australia\, including those delivered by universities\, schools\, research institutions\, libraries\, museums and science centres. \n\n\n\nFind out more: https://www.scienceweek.net.au/ \n\n\n\n\n\n\n\n\n\n\nBring Science Week into your school\n\n\n\nMore about Science Week in your school
URL:https://www.aaeesa.org.au/event/national-science-week/
CATEGORIES:Education Event
ATTACH;FMTTYPE=image/webp:https://www.aaeesa.org.au/wp/wp-content/uploads/2025/01/NationalScienceWeek_logo.webp
END:VEVENT
BEGIN:VEVENT
DTSTART;TZID=Australia/Adelaide:20260822T080000
DTEND;TZID=Australia/Adelaide:20260828T170000
DTSTAMP:20260423T211345
CREATED:20250127T055111Z
LAST-MODIFIED:20260211T045848Z
UID:6065-1787385600-1787936400@www.aaeesa.org.au
SUMMARY:Children's Book Week 2026
DESCRIPTION:Children’s Book Week\n\n\n\n\n\n\n\nChildren’s Book Week is The CBCA’s key highlight national event of the year. \n\n\n\nCBCA Book Week is an annual celebration of children’s literature across Australia\, organised by the Children’s Book Council of Australia (CBCA). The week encourages young readers to explore books\, discover new stories\, and connect with the creativity of Australian authors and illustrators. It is a chance for schools\, libraries\, families\, and communities to promote reading and foster a love of storytelling in children of all ages. \n\n\n\nThe theme for 2026 is “Symphony of Stories”\, celebrating the diversity of stories and the many ways they inspire\, entertain\, and bring people together. \n\n\n\nFind out more:  https://cbca.org.au/childrens-book-week/
URL:https://www.aaeesa.org.au/event/childrens-book-week/
CATEGORIES:Education Event
ATTACH;FMTTYPE=image/webp:https://www.aaeesa.org.au/wp/wp-content/uploads/2025/01/ChildrensBookWeek_logo.webp
END:VEVENT
END:VCALENDAR